Package: rnaseqGene Version: 1.31.0 Command: E:\biocbuild\bbs-3.21-bioc\R\bin\R.exe CMD INSTALL rnaseqGene StartedAt: 2025-02-04 13:02:08 -0500 (Tue, 04 Feb 2025) EndedAt: 2025-02-04 13:02:48 -0500 (Tue, 04 Feb 2025) EllapsedTime: 40.1 seconds RetCode: 0 Status: OK