Package: rnaseqDTU Version: 1.27.0 Command: E:\biocbuild\bbs-3.21-bioc\R\bin\R.exe CMD INSTALL rnaseqDTU StartedAt: 2025-02-04 13:01:45 -0500 (Tue, 04 Feb 2025) EndedAt: 2025-02-04 13:02:27 -0500 (Tue, 04 Feb 2025) EllapsedTime: 42.5 seconds RetCode: 0 Status: OK