Package: rnaseqDTU Version: 1.27.0 Command: /home/biocbuild/bbs-3.21-bioc/R/bin/R CMD INSTALL rnaseqDTU StartedAt: 2025-02-04 13:00:30 -0500 (Tue, 04 Feb 2025) EndedAt: 2025-02-04 13:01:10 -0500 (Tue, 04 Feb 2025) EllapsedTime: 40.2 seconds RetCode: 0 Status: OK