Package: rnaseqDTU Version: 1.27.0 Command: /Library/Frameworks/R.framework/Resources/bin/R CMD INSTALL rnaseqDTU StartedAt: 2025-02-04 13:00:35 -0500 (Tue, 04 Feb 2025) EndedAt: 2025-02-04 13:01:06 -0500 (Tue, 04 Feb 2025) EllapsedTime: 31.9 seconds RetCode: 0 Status: OK