| Back to Workflows build report for BioC 3.22 |
This page was generated on 2025-08-15 16:30 -0400 (Fri, 15 Aug 2025).
A | |||||||||
| QUICK STATS | OS / Arch | INSTALL | BUILD | ||||||||||
| nebbiolo2 | Linux (Ubuntu 24.04.3 LTS) / x86_64 |
|
| ||||||||||
| palomino8 | Windows Server 2022 Datacenter / x64 |
|
| ||||||||||
| lconway | macOS 12.7.1 Monterey / x86_64 |
|
| ||||||||||
| Package | Maintainer | INSTALL | BUILD | ||||||||||
| 1/29 | annotation 1.33.1 (landing page) | Bioconductor Package Maintainer | OK | OK | |||||||||
| 2/29 | arrays 1.35.0 (landing page) | Bioconductor Package Maintainer | OK | OK | |||||||||
| 3/29 | BP4RNAseq 1.19.0 (landing page) | Shanwen Sun | OK | OK | |||||||||
| 4/29 | CAGEWorkflow (landing page) | ... NOT SUPPORTED ... | |||||||||||
| 5/29 | chipseqDB (landing page) | ... NOT SUPPORTED ... | |||||||||||
| 6/29 | csawUsersGuide 1.25.0 (landing page) | Aaron Lun | OK | OK | |||||||||
| 7/29 | cytofWorkflow 1.33.0 (landing page) | Mark D. Robinson | OK | OK | |||||||||
| 8/29 | EGSEA123 1.33.0 (landing page) | Matthew Ritchie | OK | OK | |||||||||
| 9/29 | ExpHunterSuite 1.17.0 (landing page) | James Perkins | OK | OK | |||||||||
| 10/29 | ExpressionNormalizationWorkflow 1.35.0 (landing page) | Karthikeyan Murugesan | OK | OK | |||||||||
| 11/29 | fluentGenomics 1.21.0 (landing page) | Stuart Lee | OK | OK | |||||||||
| 12/29 | generegulation 1.33.0 (landing page) | Bioconductor Package Maintainer | OK | OK | |||||||||
| 13/29 | GeoMxWorkflows 1.15.1 (landing page) | Maddy Griswold | OK | OK | |||||||||
| 14/29 | highthroughputassays (landing page) | ... NOT SUPPORTED ... | |||||||||||
| 15/29 | liftOver 1.33.1 (landing page) | Bioconductor Package Maintainer | OK | OK | |||||||||
| 16/29 | maEndToEnd 2.29.0 (landing page) | Stefanie Reisenauer | OK | ERROR | |||||||||
| 17/29 | methylationArrayAnalysis 1.33.1 (landing page) | Jovana Maksimovic | OK | OK | |||||||||
| 18/29 | recountWorkflow 1.33.0 (landing page) | Leonardo Collado-Torres | OK | OK | |||||||||
| 19/29 | RNAseq123 1.33.0 (landing page) | Matthew Ritchie | OK | OK | |||||||||
| 20/29 | rnaseqDTU 1.29.0 (landing page) | Michael Love | OK | OK | |||||||||
| 21/29 | rnaseqGene 1.33.0 (landing page) | Michael Love | OK | OK | |||||||||
| 22/29 | RnaSeqGeneEdgeRQL 1.33.0 (landing page) | Yunshun Chen | OK | OK | |||||||||
| 23/29 | seqpac 1.9.1 (landing page) | Alessandro Gozzo | OK | OK | |||||||||
| 24/29 | sequencing 1.33.0 (landing page) | Bioconductor Package Maintainer | OK | OK | |||||||||
| 25/29 | simpleSingleCell (landing page) | ... NOT SUPPORTED ... | |||||||||||
| 26/29 | SingscoreAMLMutations 1.25.0 (landing page) | Dharmesh D. Bhuva | OK | ERROR | |||||||||
| 27/29 | spicyWorkflow 1.9.0 (landing page) | SOMS Maintainer | OK | ERROR | |||||||||
| 28/29 | TCGAWorkflow 1.33.0 (landing page) | Tiago Chedraoui Silva | OK | ERROR | |||||||||
| 29/29 | variants 1.33.1 (landing page) | Bioconductor Package Maintainer | OK | OK | |||||||||