Package: maEndToEnd Version: 2.27.0 Command: E:\biocbuild\bbs-3.21-bioc\R\bin\R.exe CMD INSTALL maEndToEnd StartedAt: 2025-02-04 13:02:07 -0500 (Tue, 04 Feb 2025) EndedAt: 2025-02-04 13:02:40 -0500 (Tue, 04 Feb 2025) EllapsedTime: 32.7 seconds RetCode: 0 Status: OK