Package: maEndToEnd Version: 2.27.0 Command: chmod a+r maEndToEnd -R && E:\biocbuild\bbs-3.21-bioc\R\bin\R.exe CMD build --keep-empty-dirs --no-resave-data maEndToEnd StartedAt: 2025-02-04 13:08:37 -0500 (Tue, 04 Feb 2025) EndedAt: 2025-02-04 13:50:32 -0500 (Tue, 04 Feb 2025) EllapsedTime: 2514.2 seconds RetCode: 1 Status: ERROR PackageFile: None PackageFileSize: NA