Package: maEndToEnd Version: 2.27.0 Command: /home/biocbuild/bbs-3.21-bioc/R/bin/R CMD INSTALL maEndToEnd StartedAt: 2025-02-07 13:00:46 -0500 (Fri, 07 Feb 2025) EndedAt: 2025-02-07 13:00:47 -0500 (Fri, 07 Feb 2025) EllapsedTime: 1.0 seconds RetCode: 1 Status: ERROR