############################################################################## ############################################################################## ### ### Running command: ### ### /home/biocbuild/bbs-3.21-bioc/R/bin/R CMD INSTALL maEndToEnd ### ############################################################################## ############################################################################## * installing to library ‘/home/biocbuild/bbs-3.21-bioc/R/site-library’ ERROR: dependencies ‘ArrayExpress’, ‘pd.hugene.1.0.st.v1’, ‘oligo’ are not available for package ‘maEndToEnd’ Perhaps try a variation of: install.packages(c('ArrayExpress', 'pd.hugene.1.0.st.v1', 'oligo')) * removing ‘/home/biocbuild/bbs-3.21-bioc/R/site-library/maEndToEnd’