Package: maEndToEnd Version: 2.27.0 Command: /home/biocbuild/bbs-3.21-bioc/R/bin/R CMD build --keep-empty-dirs --no-resave-data maEndToEnd StartedAt: 2025-02-07 13:05:28 -0500 (Fri, 07 Feb 2025) EndedAt: 2025-02-07 13:05:29 -0500 (Fri, 07 Feb 2025) EllapsedTime: 1.0 seconds RetCode: 1 Status: ERROR PackageFile: None PackageFileSize: NA