############################################################################## ############################################################################## ### ### Running command: ### ### /home/biocbuild/bbs-3.21-bioc/R/bin/R CMD build --keep-empty-dirs --no-resave-data maEndToEnd ### ############################################################################## ############################################################################## * checking for file ‘maEndToEnd/DESCRIPTION’ ... OK * preparing ‘maEndToEnd’: * checking DESCRIPTION meta-information ... OK * installing the package to build vignettes ----------------------------------- ERROR: dependencies ‘ArrayExpress’, ‘pd.hugene.1.0.st.v1’, ‘oligo’ are not available for package ‘maEndToEnd’ Perhaps try a variation of: install.packages(c('ArrayExpress', 'pd.hugene.1.0.st.v1', 'oligo')) * removing ‘/tmp/RtmpYHujSW/Rinst2d8516515374d7/maEndToEnd’ ----------------------------------- ERROR: package installation failed