Package: maEndToEnd Version: 2.27.0 Command: /Library/Frameworks/R.framework/Resources/bin/R CMD INSTALL maEndToEnd StartedAt: 2025-02-07 13:00:47 -0500 (Fri, 07 Feb 2025) EndedAt: 2025-02-07 13:00:48 -0500 (Fri, 07 Feb 2025) EllapsedTime: 1.1 seconds RetCode: 1 Status: ERROR