Package: maEndToEnd Version: 2.27.0 Command: /Library/Frameworks/R.framework/Resources/bin/R CMD build --keep-empty-dirs --no-resave-data maEndToEnd StartedAt: 2025-02-07 13:04:41 -0500 (Fri, 07 Feb 2025) EndedAt: 2025-02-07 13:04:42 -0500 (Fri, 07 Feb 2025) EllapsedTime: 1.2 seconds RetCode: 1 Status: ERROR PackageFile: None PackageFileSize: NA