Package: liftOver Version: 1.31.0 Command: /Library/Frameworks/R.framework/Resources/bin/R CMD INSTALL liftOver StartedAt: 2025-02-04 13:00:53 -0500 (Tue, 04 Feb 2025) EndedAt: 2025-02-04 13:01:20 -0500 (Tue, 04 Feb 2025) EllapsedTime: 26.8 seconds RetCode: 0 Status: OK