This page was generated on 2025-10-21 16:30 -0400 (Tue, 21 Oct 2025).
| |
| See this page for all the Bioconductor builds and their schedule. |
| Hostname | OS | Arch (*) | R version | Installed pkgs |
|---|---|---|---|---|
| nebbiolo2 | Linux (Ubuntu 24.04.3 LTS) | x86_64 | 4.5.1 Patched (2025-08-23 r88802) -- "Great Square Root" | 4888 |
| lconway | macOS 12.7.6 Monterey | x86_64 | 4.5.1 Patched (2025-09-10 r88807) -- "Great Square Root" | 4677 |
| Click on any hostname to see more info about the system (e.g. compilers) (*) as reported by 'uname -p', except on Windows and Mac OS X | ||||
A | |||||||||
| QUICK STATS | OS / Arch | INSTALL | BUILD | ||||||||||
| nebbiolo2 | Linux (Ubuntu 24.04.3 LTS) / x86_64 |
|
| ||||||||||
| lconway | macOS 12.7.6 Monterey / x86_64 |
|
| ||||||||||
| Package 1/29 | Hostname | OS / Arch | INSTALL | BUILD | |||||||||
| annotation 1.33.1 (landing page) Bioconductor Package Maintainer
| nebbiolo2 | Linux (Ubuntu 24.04.3 LTS) / x86_64 | OK | OK | |||||||||
| lconway | macOS 12.7.6 Monterey / x86_64 | OK | OK | ||||||||||
| Package 2/29 | Hostname | OS / Arch | INSTALL | BUILD | |||||||||
| arrays 1.35.0 (landing page) Bioconductor Package Maintainer
| nebbiolo2 | Linux (Ubuntu 24.04.3 LTS) / x86_64 | OK | OK | |||||||||
| lconway | macOS 12.7.6 Monterey / x86_64 | OK | OK | ||||||||||
| Package 3/29 | Hostname | OS / Arch | INSTALL | BUILD | |||||||||
| BP4RNAseq 1.19.0 (landing page) Shanwen Sun
| nebbiolo2 | Linux (Ubuntu 24.04.3 LTS) / x86_64 | OK | OK | |||||||||
| lconway | macOS 12.7.6 Monterey / x86_64 | OK | OK | ||||||||||
| Package 4/29 | Hostname | OS / Arch | INSTALL | BUILD | |||||||||
| CAGEWorkflow 1.25.0 (landing page) Malte Thodberg
| nebbiolo2 | Linux (Ubuntu 24.04.3 LTS) / x86_64 | OK | OK | |||||||||
| lconway | macOS 12.7.6 Monterey / x86_64 | OK | OK | ||||||||||
| Package 5/29 | Hostname | OS / Arch | INSTALL | BUILD | |||||||||
| chipseqDB 1.33.0 (landing page) Aaron Lun
| nebbiolo2 | Linux (Ubuntu 24.04.3 LTS) / x86_64 | OK | OK | |||||||||
| lconway | macOS 12.7.6 Monterey / x86_64 | OK | OK | ||||||||||
| Package 6/29 | Hostname | OS / Arch | INSTALL | BUILD | |||||||||
| csawUsersGuide 1.25.0 (landing page) Aaron Lun
| nebbiolo2 | Linux (Ubuntu 24.04.3 LTS) / x86_64 | OK | OK | |||||||||
| lconway | macOS 12.7.6 Monterey / x86_64 | OK | OK | ||||||||||
| Package 7/29 | Hostname | OS / Arch | INSTALL | BUILD | |||||||||
| cytofWorkflow 1.33.0 (landing page) Mark D. Robinson
| nebbiolo2 | Linux (Ubuntu 24.04.3 LTS) / x86_64 | OK | OK | |||||||||
| lconway | macOS 12.7.6 Monterey / x86_64 | OK | OK | ||||||||||
| Package 8/29 | Hostname | OS / Arch | INSTALL | BUILD | |||||||||
| EGSEA123 1.33.0 (landing page) Matthew Ritchie
| nebbiolo2 | Linux (Ubuntu 24.04.3 LTS) / x86_64 | OK | OK | |||||||||
| lconway | macOS 12.7.6 Monterey / x86_64 | OK | OK | ||||||||||
| Package 9/29 | Hostname | OS / Arch | INSTALL | BUILD | |||||||||
| ExpHunterSuite 1.17.0 (landing page) James Perkins
| nebbiolo2 | Linux (Ubuntu 24.04.3 LTS) / x86_64 | OK | OK | |||||||||
| lconway | macOS 12.7.6 Monterey / x86_64 | OK | OK | ||||||||||
| Package 10/29 | Hostname | OS / Arch | INSTALL | BUILD | |||||||||
| ExpressionNormalizationWorkflow 1.35.0 (landing page) Karthikeyan Murugesan
| nebbiolo2 | Linux (Ubuntu 24.04.3 LTS) / x86_64 | OK | OK | |||||||||
| lconway | macOS 12.7.6 Monterey / x86_64 | OK | OK | ||||||||||
| Package 11/29 | Hostname | OS / Arch | INSTALL | BUILD | |||||||||
| fluentGenomics 1.21.0 (landing page) Stuart Lee
| nebbiolo2 | Linux (Ubuntu 24.04.3 LTS) / x86_64 | OK | OK | |||||||||
| lconway | macOS 12.7.6 Monterey / x86_64 | OK | OK | ||||||||||
| Package 12/29 | Hostname | OS / Arch | INSTALL | BUILD | |||||||||
| generegulation 1.33.0 (landing page) Bioconductor Package Maintainer
| nebbiolo2 | Linux (Ubuntu 24.04.3 LTS) / x86_64 | OK | OK | |||||||||
| lconway | macOS 12.7.6 Monterey / x86_64 | OK | OK | ||||||||||
| Package 13/29 | Hostname | OS / Arch | INSTALL | BUILD | |||||||||
| GeoMxWorkflows 1.15.1 (landing page) Maddy Griswold
| nebbiolo2 | Linux (Ubuntu 24.04.3 LTS) / x86_64 | OK | OK | |||||||||
| lconway | macOS 12.7.6 Monterey / x86_64 | OK | OK | ||||||||||
| Package 14/29 | Hostname | OS / Arch | INSTALL | BUILD | |||||||||
| highthroughputassays 1.33.0 (landing page) Bioconductor Package Maintainer
| nebbiolo2 | Linux (Ubuntu 24.04.3 LTS) / x86_64 | OK | OK | |||||||||
| lconway | macOS 12.7.6 Monterey / x86_64 | ... NOT SUPPORTED ... | |||||||||||
| Package 15/29 | Hostname | OS / Arch | INSTALL | BUILD | |||||||||
| liftOver 1.33.1 (landing page) Bioconductor Package Maintainer
| nebbiolo2 | Linux (Ubuntu 24.04.3 LTS) / x86_64 | OK | OK | |||||||||
| lconway | macOS 12.7.6 Monterey / x86_64 | OK | OK | ||||||||||
| Package 16/29 | Hostname | OS / Arch | INSTALL | BUILD | |||||||||
| maEndToEnd 2.29.0 (landing page) Stefanie Reisenauer
| nebbiolo2 | Linux (Ubuntu 24.04.3 LTS) / x86_64 | OK | OK | |||||||||
| lconway | macOS 12.7.6 Monterey / x86_64 | OK | OK | ||||||||||
| Package 17/29 | Hostname | OS / Arch | INSTALL | BUILD | |||||||||
| methylationArrayAnalysis 1.33.1 (landing page) Jovana Maksimovic
| nebbiolo2 | Linux (Ubuntu 24.04.3 LTS) / x86_64 | OK | OK | |||||||||
| lconway | macOS 12.7.6 Monterey / x86_64 | OK | OK | ||||||||||
| Package 18/29 | Hostname | OS / Arch | INSTALL | BUILD | |||||||||
| recountWorkflow 1.33.0 (landing page) Leonardo Collado-Torres
| nebbiolo2 | Linux (Ubuntu 24.04.3 LTS) / x86_64 | OK | OK | |||||||||
| lconway | macOS 12.7.6 Monterey / x86_64 | OK | OK | ||||||||||
| Package 19/29 | Hostname | OS / Arch | INSTALL | BUILD | |||||||||
| RNAseq123 1.33.0 (landing page) Matthew Ritchie
| nebbiolo2 | Linux (Ubuntu 24.04.3 LTS) / x86_64 | OK | OK | |||||||||
| lconway | macOS 12.7.6 Monterey / x86_64 | OK | OK | ||||||||||
| Package 20/29 | Hostname | OS / Arch | INSTALL | BUILD | |||||||||
| rnaseqDTU 1.29.0 (landing page) Michael Love
| nebbiolo2 | Linux (Ubuntu 24.04.3 LTS) / x86_64 | OK | OK | |||||||||
| lconway | macOS 12.7.6 Monterey / x86_64 | OK | OK | ||||||||||
| Package 21/29 | Hostname | OS / Arch | INSTALL | BUILD | |||||||||
| rnaseqGene 1.33.0 (landing page) Michael Love
| nebbiolo2 | Linux (Ubuntu 24.04.3 LTS) / x86_64 | OK | OK | |||||||||
| lconway | macOS 12.7.6 Monterey / x86_64 | OK | OK | ||||||||||
| Package 22/29 | Hostname | OS / Arch | INSTALL | BUILD | |||||||||
| RnaSeqGeneEdgeRQL 1.33.1 (landing page) Yunshun Chen
| nebbiolo2 | Linux (Ubuntu 24.04.3 LTS) / x86_64 | OK | OK | |||||||||
| lconway | macOS 12.7.6 Monterey / x86_64 | OK | OK | ||||||||||
| Package 23/29 | Hostname | OS / Arch | INSTALL | BUILD | |||||||||
| seqpac 1.9.2 (landing page) Alessandro Gozzo
| nebbiolo2 | Linux (Ubuntu 24.04.3 LTS) / x86_64 | OK | OK | |||||||||
| lconway | macOS 12.7.6 Monterey / x86_64 | OK | OK | ||||||||||
| Package 24/29 | Hostname | OS / Arch | INSTALL | BUILD | |||||||||
| sequencing 1.33.0 (landing page) Bioconductor Package Maintainer
| nebbiolo2 | Linux (Ubuntu 24.04.3 LTS) / x86_64 | OK | OK | |||||||||
| lconway | macOS 12.7.6 Monterey / x86_64 | OK | OK | ||||||||||
| Package 25/29 | Hostname | OS / Arch | INSTALL | BUILD | |||||||||
| simpleSingleCell 1.33.0 (landing page) Aaron Lun
| nebbiolo2 | Linux (Ubuntu 24.04.3 LTS) / x86_64 | OK | OK | |||||||||
| lconway | macOS 12.7.6 Monterey / x86_64 | OK | OK | ||||||||||
| Package 26/29 | Hostname | OS / Arch | INSTALL | BUILD | |||||||||
| SingscoreAMLMutations 1.25.0 (landing page) Dharmesh D. Bhuva
| nebbiolo2 | Linux (Ubuntu 24.04.3 LTS) / x86_64 | OK | ERROR | |||||||||
| lconway | macOS 12.7.6 Monterey / x86_64 | OK | ERROR | ||||||||||
| Package 27/29 | Hostname | OS / Arch | INSTALL | BUILD | |||||||||
SOMS Maintainer
| nebbiolo2 | Linux (Ubuntu 24.04.3 LTS) / x86_64 | OK | ERROR | |||||||||
| lconway | macOS 12.7.6 Monterey / x86_64 | OK | OK | ||||||||||
| Package 28/29 | Hostname | OS / Arch | INSTALL | BUILD | |||||||||
| TCGAWorkflow 1.33.0 (landing page) Tiago Chedraoui Silva
| nebbiolo2 | Linux (Ubuntu 24.04.3 LTS) / x86_64 | ERROR | ERROR | |||||||||
| lconway | macOS 12.7.6 Monterey / x86_64 | OK | ERROR | ||||||||||
| Package 29/29 | Hostname | OS / Arch | INSTALL | BUILD | |||||||||
| variants 1.33.1 (landing page) Bioconductor Package Maintainer
| nebbiolo2 | Linux (Ubuntu 24.04.3 LTS) / x86_64 | OK | OK | |||||||||
| lconway | macOS 12.7.6 Monterey / x86_64 | OK | OK | ||||||||||