Package: generegulation
Version: 1.31.0
Command: E:\biocbuild\bbs-3.21-bioc\R\bin\R.exe CMD INSTALL generegulation
StartedAt: 2025-02-21 13:01:27 -0500 (Fri, 21 Feb 2025)
EndedAt: 2025-02-21 13:02:09 -0500 (Fri, 21 Feb 2025)
EllapsedTime: 41.9 seconds
RetCode: 0
Status: OK