##############################################################################
##############################################################################
###
### Running command:
###
###   /home/biocbuild/bbs-3.21-bioc/R/bin/R CMD build --keep-empty-dirs --no-resave-data generegulation
###
##############################################################################
##############################################################################


* checking for file ‘generegulation/DESCRIPTION’ ... OK
* preparing ‘generegulation’:
* checking DESCRIPTION meta-information ... OK
* installing the package to build vignettes
      -----------------------------------
ERROR: dependency ‘motifStack’ is not available for package ‘generegulation’
Perhaps try a variation of:
install.packages('motifStack')
* removing ‘/tmp/RtmpICQS5B/Rinst2eafd15f261be/generegulation’
      -----------------------------------
ERROR: package installation failed