Package: generegulation Version: 1.33.0 Command: /Library/Frameworks/R.framework/Resources/bin/R CMD INSTALL generegulation StartedAt: 2025-05-06 13:00:23 -0400 (Tue, 06 May 2025) EndedAt: 2025-05-06 13:00:52 -0400 (Tue, 06 May 2025) EllapsedTime: 29.9 seconds RetCode: 0 Status: OK