Package: generegulation Version: 1.33.0 Command: /Library/Frameworks/R.framework/Resources/bin/R CMD build --keep-empty-dirs --no-resave-data generegulation StartedAt: 2025-05-09 13:03:47 -0400 (Fri, 09 May 2025) EndedAt: 2025-05-09 13:04:42 -0400 (Fri, 09 May 2025) EllapsedTime: 54.6 seconds RetCode: 0 Status: OK PackageFile: generegulation_1.33.0.tar.gz PackageFileSize: 1.521 MiB