Package: fluentGenomics Version: 1.19.0 Command: chmod a+r fluentGenomics -R && E:\biocbuild\bbs-3.21-bioc\R\bin\R.exe CMD build --keep-empty-dirs --no-resave-data fluentGenomics StartedAt: 2025-02-07 13:07:16 -0500 (Fri, 07 Feb 2025) EndedAt: 2025-02-07 13:10:22 -0500 (Fri, 07 Feb 2025) EllapsedTime: 186.0 seconds RetCode: 0 Status: OK PackageFile: fluentGenomics_1.19.0.tar.gz PackageFileSize: 5.411 MiB