Package: fluentGenomics Version: 1.19.0 Command: /home/biocbuild/bbs-3.21-bioc/R/bin/R CMD INSTALL fluentGenomics StartedAt: 2025-02-07 13:00:17 -0500 (Fri, 07 Feb 2025) EndedAt: 2025-02-07 13:00:52 -0500 (Fri, 07 Feb 2025) EllapsedTime: 35.4 seconds RetCode: 0 Status: OK