Package: fluentGenomics Version: 1.19.0 Command: /home/biocbuild/bbs-3.21-bioc/R/bin/R CMD build --keep-empty-dirs --no-resave-data fluentGenomics StartedAt: 2025-02-04 13:04:26 -0500 (Tue, 04 Feb 2025) EndedAt: 2025-02-04 13:07:41 -0500 (Tue, 04 Feb 2025) EllapsedTime: 195.1 seconds RetCode: 0 Status: OK PackageFile: fluentGenomics_1.19.0.tar.gz PackageFileSize: 5.457 MiB