Package: fluentGenomics Version: 1.19.0 Command: /Library/Frameworks/R.framework/Resources/bin/R CMD build --keep-empty-dirs --no-resave-data fluentGenomics StartedAt: 2025-02-04 13:03:46 -0500 (Tue, 04 Feb 2025) EndedAt: 2025-02-04 13:06:43 -0500 (Tue, 04 Feb 2025) EllapsedTime: 177.2 seconds RetCode: 0 Status: OK PackageFile: fluentGenomics_1.19.0.tar.gz PackageFileSize: 5.489 MiB