Package: cytofWorkflow Version: 1.31.0 Command: /home/biocbuild/bbs-3.21-bioc/R/bin/R CMD INSTALL cytofWorkflow StartedAt: 2025-02-04 13:00:18 -0500 (Tue, 04 Feb 2025) EndedAt: 2025-02-04 13:00:45 -0500 (Tue, 04 Feb 2025) EllapsedTime: 26.5 seconds RetCode: 0 Status: OK