Package: cytofWorkflow Version: 1.31.0 Command: /Library/Frameworks/R.framework/Resources/bin/R CMD INSTALL cytofWorkflow StartedAt: 2025-02-04 13:00:24 -0500 (Tue, 04 Feb 2025) EndedAt: 2025-02-04 13:00:46 -0500 (Tue, 04 Feb 2025) EllapsedTime: 22.0 seconds RetCode: 0 Status: OK