Package: cytofWorkflow Version: 1.31.0 Command: /Library/Frameworks/R.framework/Resources/bin/R CMD build --keep-empty-dirs --no-resave-data cytofWorkflow StartedAt: 2025-02-07 13:03:40 -0500 (Fri, 07 Feb 2025) EndedAt: 2025-02-07 13:07:16 -0500 (Fri, 07 Feb 2025) EllapsedTime: 216.0 seconds RetCode: 0 Status: OK PackageFile: cytofWorkflow_1.31.0.tar.gz PackageFileSize: 6.902 MiB