Package: annotation Version: 1.31.0 Command: E:\biocbuild\bbs-3.21-bioc\R\bin\R.exe CMD INSTALL annotation StartedAt: 2025-02-21 13:02:27 -0500 (Fri, 21 Feb 2025) EndedAt: 2025-02-21 13:03:02 -0500 (Fri, 21 Feb 2025) EllapsedTime: 35.2 seconds RetCode: 0 Status: OK