Package: TCGAWorkflow Version: 1.33.0 Command: /Library/Frameworks/R.framework/Resources/bin/R CMD build --keep-empty-dirs --no-resave-data TCGAWorkflow StartedAt: 2025-05-06 13:09:01 -0400 (Tue, 06 May 2025) EndedAt: 2025-05-06 13:17:00 -0400 (Tue, 06 May 2025) EllapsedTime: 478.9 seconds RetCode: 0 Status: OK PackageFile: TCGAWorkflow_1.33.0.tar.gz PackageFileSize: 3.824 MiB