############################################################################## ############################################################################## ### ### Running command: ### ### /Library/Frameworks/R.framework/Resources/bin/R CMD build --keep-empty-dirs --no-resave-data TCGAWorkflow ### ############################################################################## ############################################################################## * checking for file ‘TCGAWorkflow/DESCRIPTION’ ... OK * preparing ‘TCGAWorkflow’: * checking DESCRIPTION meta-information ... OK * installing the package to build vignettes ----------------------------------- ERROR: dependency ‘maftools’ is not available for package ‘TCGAWorkflow’ Perhaps try a variation of: install.packages('maftools') * removing ‘/private/tmp/RtmpYM3KYi/Rinst931df12000/TCGAWorkflow’ ----------------------------------- ERROR: package installation failed