Package: RnaSeqGeneEdgeRQL Version: 1.31.0 Command: E:\biocbuild\bbs-3.21-bioc\R\bin\R.exe CMD INSTALL RnaSeqGeneEdgeRQL StartedAt: 2025-02-04 13:01:31 -0500 (Tue, 04 Feb 2025) EndedAt: 2025-02-04 13:01:44 -0500 (Tue, 04 Feb 2025) EllapsedTime: 13.4 seconds RetCode: 0 Status: OK