Package: RnaSeqGeneEdgeRQL Version: 1.31.0 Command: /home/biocbuild/bbs-3.21-bioc/R/bin/R CMD INSTALL RnaSeqGeneEdgeRQL StartedAt: 2025-02-21 13:00:30 -0500 (Fri, 21 Feb 2025) EndedAt: 2025-02-21 13:00:39 -0500 (Fri, 21 Feb 2025) EllapsedTime: 9.1 seconds RetCode: 0 Status: OK