Package: RnaSeqGeneEdgeRQL Version: 1.31.0 Command: /Library/Frameworks/R.framework/Resources/bin/R CMD build --keep-empty-dirs --no-resave-data RnaSeqGeneEdgeRQL StartedAt: 2025-02-04 13:08:17 -0500 (Tue, 04 Feb 2025) EndedAt: 2025-02-04 13:09:31 -0500 (Tue, 04 Feb 2025) EllapsedTime: 74.0 seconds RetCode: 0 Status: OK PackageFile: RnaSeqGeneEdgeRQL_1.31.0.tar.gz PackageFileSize: 2.561 MiB