Package: RNAseq123 Version: 1.35.0 Command: /home/biocbuild/bbs-3.23-bioc/R/bin/R CMD build --keep-empty-dirs --no-resave-data RNAseq123 StartedAt: 2025-11-14 13:06:06 -0500 (Fri, 14 Nov 2025) EndedAt: 2025-11-14 13:07:41 -0500 (Fri, 14 Nov 2025) EllapsedTime: 95.0 seconds RetCode: 0 Status: OK PackageFile: RNAseq123_1.35.0.tar.gz PackageFileSize: 6.923 MiB