Package: ExpressionNormalizationWorkflow Version: 1.35.0 Command: /Library/Frameworks/R.framework/Resources/bin/R CMD INSTALL ExpressionNormalizationWorkflow StartedAt: 2025-05-20 13:00:27 -0400 (Tue, 20 May 2025) EndedAt: 2025-05-20 13:00:44 -0400 (Tue, 20 May 2025) EllapsedTime: 17.1 seconds RetCode: 0 Status: OK