############################################################################## ############################################################################## ### ### Running command: ### ### chmod a+r BiocMetaWorkflow -R && E:\biocbuild\bbs-3.21-bioc\R\bin\R.exe CMD build --keep-empty-dirs --no-resave-data BiocMetaWorkflow ### ############################################################################## ############################################################################## * checking for file 'BiocMetaWorkflow/DESCRIPTION' ... OK * preparing 'BiocMetaWorkflow': * checking DESCRIPTION meta-information ... OK * installing the package to build vignettes ----------------------------------- * installing *source* package 'BiocMetaWorkflow' ... ** this is package 'BiocMetaWorkflow' version '1.29.1' ** using staged installation ERROR: a 'NAMESPACE' file is required * removing 'E:/biocbuild/bbs-3.21-workflows/tmpdir/RtmpMBeIBR/Rinst227402356276f/BiocMetaWorkflow' ----------------------------------- ERROR: package installation failed