Package: BiocMetaWorkflow Version: 1.29.1 Command: /Library/Frameworks/R.framework/Resources/bin/R CMD build --keep-empty-dirs --no-resave-data BiocMetaWorkflow StartedAt: 2025-02-11 13:03:40 -0500 (Tue, 11 Feb 2025) EndedAt: 2025-02-11 13:03:42 -0500 (Tue, 11 Feb 2025) EllapsedTime: 1.2 seconds RetCode: 1 Status: ERROR PackageFile: None PackageFileSize: NA