Package: yeastExpData Version: 0.55.0 Command: /home/biocbuild/bbs-3.22-bioc/R/bin/R CMD check --install=check:yeastExpData.install-out.txt --library=/home/biocbuild/bbs-3.22-bioc/R/site-library --timings yeastExpData_0.55.0.tar.gz StartedAt: 2025-10-16 13:18:44 -0400 (Thu, 16 Oct 2025) EndedAt: 2025-10-16 13:19:06 -0400 (Thu, 16 Oct 2025) EllapsedTime: 22.7 seconds RetCode: 0 Status: WARNINGS CheckDir: yeastExpData.Rcheck Warnings: 4