Package: yeastExpData Version: 0.53.0 Command: /home/biocbuild/bbs-3.21-bioc/R/bin/R CMD INSTALL yeastExpData StartedAt: 2025-01-30 10:56:31 -0500 (Thu, 30 Jan 2025) EndedAt: 2025-01-30 10:56:36 -0500 (Thu, 30 Jan 2025) EllapsedTime: 5.0 seconds RetCode: 0 Status: OK