Package: tximportData Version: 1.37.5 Command: /home/biocbuild/bbs-3.22-bioc/R/bin/R CMD INSTALL tximportData StartedAt: 2025-10-07 10:55:26 -0400 (Tue, 07 Oct 2025) EndedAt: 2025-10-07 10:55:28 -0400 (Tue, 07 Oct 2025) EllapsedTime: 2.3 seconds RetCode: 0 Status: OK