Package: tximportData Version: 1.37.5 Command: /home/biocbuild/bbs-3.22-bioc/R/bin/R CMD build --keep-empty-dirs --no-resave-data tximportData StartedAt: 2025-10-07 11:46:19 -0400 (Tue, 07 Oct 2025) EndedAt: 2025-10-07 11:48:45 -0400 (Tue, 07 Oct 2025) EllapsedTime: 145.6 seconds RetCode: 0 Status: OK PackageFile: tximportData_1.37.5.tar.gz PackageFileSize: 385.8 MiB