Package: tweeDEseqCountData Version: 1.47.0 Command: /home/biocbuild/bbs-3.22-bioc/R/bin/R CMD build --keep-empty-dirs --no-resave-data tweeDEseqCountData StartedAt: 2025-07-22 11:48:10 -0400 (Tue, 22 Jul 2025) EndedAt: 2025-07-22 11:48:18 -0400 (Tue, 22 Jul 2025) EllapsedTime: 8.0 seconds RetCode: 0 Status: OK PackageFile: tweeDEseqCountData_1.47.0.tar.gz PackageFileSize: 40.83 MiB