Package: tinesath1cdf Version: 1.45.0 Command: /home/biocbuild/bbs-3.21-bioc/R/bin/R CMD check --install=check:tinesath1cdf.install-out.txt --library=/home/biocbuild/bbs-3.21-bioc/R/site-library --timings tinesath1cdf_1.45.0.tar.gz StartedAt: 2025-01-30 12:52:02 -0500 (Thu, 30 Jan 2025) EndedAt: 2025-01-30 12:52:18 -0500 (Thu, 30 Jan 2025) EllapsedTime: 16.0 seconds RetCode: 0 Status: WARNINGS CheckDir: tinesath1cdf.Rcheck Warnings: 1