Package: stemHypoxia Version: 1.45.0 Command: /home/biocbuild/bbs-3.22-bioc/R/bin/R CMD check --install=check:stemHypoxia.install-out.txt --library=/home/biocbuild/bbs-3.22-bioc/R/site-library --timings stemHypoxia_1.45.0.tar.gz StartedAt: 2025-10-21 13:08:04 -0400 (Tue, 21 Oct 2025) EndedAt: 2025-10-21 13:08:17 -0400 (Tue, 21 Oct 2025) EllapsedTime: 12.3 seconds RetCode: 0 Status: OK CheckDir: stemHypoxia.Rcheck Warnings: 0