Package: smokingMouse Version: 1.7.0 Command: /home/biocbuild/bbs-3.22-bioc/R/bin/R CMD check --install=check:smokingMouse.install-out.txt --library=/home/biocbuild/bbs-3.22-bioc/R/site-library --timings smokingMouse_1.7.0.tar.gz StartedAt: 2025-10-28 13:04:29 -0400 (Tue, 28 Oct 2025) EndedAt: 2025-10-28 13:05:18 -0400 (Tue, 28 Oct 2025) EllapsedTime: 48.6 seconds RetCode: 0 Status: OK CheckDir: smokingMouse.Rcheck Warnings: 0