Package: signatureSearchData Version: 1.23.0 Command: /home/biocbuild/bbs-3.22-bioc/R/bin/R CMD INSTALL signatureSearchData StartedAt: 2025-07-22 10:56:49 -0400 (Tue, 22 Jul 2025) EndedAt: 2025-07-22 10:56:55 -0400 (Tue, 22 Jul 2025) EllapsedTime: 5.2 seconds RetCode: 0 Status: OK