Package: sesameData Version: 1.25.0 Command: /home/biocbuild/bbs-3.21-bioc/R/bin/R CMD check --install=check:sesameData.install-out.txt --library=/home/biocbuild/bbs-3.21-bioc/R/site-library --timings sesameData_1.25.0.tar.gz StartedAt: 2025-01-30 12:42:31 -0500 (Thu, 30 Jan 2025) EndedAt: 2025-01-30 12:45:19 -0500 (Thu, 30 Jan 2025) EllapsedTime: 167.4 seconds RetCode: 0 Status: OK CheckDir: sesameData.Rcheck Warnings: 0