Package: scpdata Version: 1.17.1 Command: /home/biocbuild/bbs-3.22-bioc/R/bin/R CMD INSTALL scpdata StartedAt: 2025-07-24 10:59:31 -0400 (Thu, 24 Jul 2025) EndedAt: 2025-07-24 11:00:05 -0400 (Thu, 24 Jul 2025) EllapsedTime: 33.9 seconds RetCode: 0 Status: OK