Package: scpdata Version: 1.17.1 Command: /home/biocbuild/bbs-3.22-bioc/R/bin/R CMD build --keep-empty-dirs --no-resave-data scpdata StartedAt: 2025-07-24 11:41:55 -0400 (Thu, 24 Jul 2025) EndedAt: 2025-07-24 11:42:51 -0400 (Thu, 24 Jul 2025) EllapsedTime: 55.6 seconds RetCode: 0 Status: OK PackageFile: scpdata_1.17.1.tar.gz PackageFileSize: 699.1 KiB