Package: scaeData Version: 1.5.0 Command: /home/biocbuild/bbs-3.22-bioc/R/bin/R CMD INSTALL scaeData StartedAt: 2025-07-22 10:57:10 -0400 (Tue, 22 Jul 2025) EndedAt: 2025-07-22 10:57:25 -0400 (Tue, 22 Jul 2025) EllapsedTime: 14.8 seconds RetCode: 0 Status: OK