Package: scATAC.Explorer Version: 1.15.0 Command: /home/biocbuild/bbs-3.22-bioc/R/bin/R CMD INSTALL scATAC.Explorer StartedAt: 2025-07-22 11:03:05 -0400 (Tue, 22 Jul 2025) EndedAt: 2025-07-22 11:03:36 -0400 (Tue, 22 Jul 2025) EllapsedTime: 31.3 seconds RetCode: 0 Status: OK